BEGIN:VCALENDAR
VERSION:2.0
PRODID:-//Homöopathie Berlin Brandenburg - ECPv6.15.20//NONSGML v1.0//EN
CALSCALE:GREGORIAN
METHOD:PUBLISH
X-WR-CALNAME:Homöopathie Berlin Brandenburg
X-ORIGINAL-URL:https://www.berlin-brandenburger-homoeopathie.de
X-WR-CALDESC:Veranstaltungen für Homöopathie Berlin Brandenburg
REFRESH-INTERVAL;VALUE=DURATION:PT1H
X-Robots-Tag:noindex
X-PUBLISHED-TTL:PT1H
BEGIN:VTIMEZONE
TZID:Europe/Berlin
BEGIN:DAYLIGHT
TZOFFSETFROM:+0100
TZOFFSETTO:+0200
TZNAME:CEST
DTSTART:20250330T010000
END:DAYLIGHT
BEGIN:STANDARD
TZOFFSETFROM:+0200
TZOFFSETTO:+0100
TZNAME:CET
DTSTART:20251026T010000
END:STANDARD
BEGIN:DAYLIGHT
TZOFFSETFROM:+0100
TZOFFSETTO:+0200
TZNAME:CEST
DTSTART:20260329T010000
END:DAYLIGHT
BEGIN:STANDARD
TZOFFSETFROM:+0200
TZOFFSETTO:+0100
TZNAME:CET
DTSTART:20261025T010000
END:STANDARD
BEGIN:DAYLIGHT
TZOFFSETFROM:+0100
TZOFFSETTO:+0200
TZNAME:CEST
DTSTART:20270328T010000
END:DAYLIGHT
BEGIN:STANDARD
TZOFFSETFROM:+0200
TZOFFSETTO:+0100
TZNAME:CET
DTSTART:20271031T010000
END:STANDARD
END:VTIMEZONE
BEGIN:VEVENT
DTSTART;TZID=Europe/Berlin:20261028T180000
DTEND;TZID=Europe/Berlin:20261028T200000
DTSTAMP:20260426T063033
CREATED:20251217T121256Z
LAST-MODIFIED:20260424T090643Z
UID:5790-1793210400-1793217600@www.berlin-brandenburger-homoeopathie.de
SUMMARY:Weiterbildungsreihe Homöopa-TIK: Theorie\, Intervision\, Kon-Struktion
DESCRIPTION:Liebe Kolleginnen und Kollegen\,\nseid dem Jahr 2024 läuft im Berliner Verein homöopathischer Ärzte e.V. eine Veranstaltungsreihe\, die den kollegialen Austausch innerhalb des Vereins fördern soll. Die Gruppe beschäftigt sich mit der Theorie\, der Praxis und der Zukunft der Homöopathie.\nJeweils zwei Stunden etwa alle sechs Wochen gibt es online/hybrid die Möglichkeit dazu.\nZunächst möchten wir das „Organon“ und die „Chronischen Krankheiten“ gemeinsam lesen und diskutieren.\nIm Anschluss daran gibt es die Möglichkeit einer methodenoffenen Intervision von Fällen.\nEin Quereinstieg in die laufende Gruppe ist jederzeit möglich \nHerzliche Grüße\nMartin Kiesel \nZunächst geplante Termine in 2026:\nMi 21.01.2026 um 18 bis 20 Uhr hybrid\nMi 11.03. 2026 um 18 bis 20 Uhr hybrid\nMi 22.04.2026 um 18 bis 20 Uhr hybrid\nMi 03.06.2026um 18 bis 20 Uhr hybrid\nMi 02.09.2026 um 18 bis 20 Uhr hybrid\nMi 28.10.2026 um 18 bis 20 Uhr hybrid\nMi 09.12.2026 um 18 bis 20 Uhr hybrid\nDie Reihe wird hybrid abgehalten\, mit Präsenz in den Räumen des BVhÄ. \nSeminarzeiten: 18:00 bis 20:00\nSeminargebühren:\nDiese Reihe wird kostenfrei angeboten.\nLeitung:\nMartin Kiesel\nAnmeldebedingungen: \nHinweis:\nIhre personengebundenen Daten und Seminar- unterlagen stehen nur noch 5 Jahre für eventuelle Rückfragen zur Verfügung \nFlyer Weiterbildungsreihe Homöopatik-2026
URL:https://www.berlin-brandenburger-homoeopathie.de/event/weiterbildungsreihe-homoeopa-tik-theorie-intervision-kon-struktion-4/
LOCATION:Berliner Verein Homöopathischer Ärzte\, Nassauische Str. 2\, Berlin\, Berlin\, 10717\, Deutschland
CATEGORIES:Homöopa-TIK,Seminare + Fortbildung
ORGANIZER;CN="Berliner Verein Hom%C3%B6opathischer %C3%84rzte e.V.":MAILTO:info@bvhae.de
END:VEVENT
BEGIN:VEVENT
DTSTART;VALUE=DATE:20261106
DTEND;VALUE=DATE:20261109
DTSTAMP:20260426T063033
CREATED:20251215T101203Z
LAST-MODIFIED:20251217T114051Z
UID:5728-1793923200-1794182399@www.berlin-brandenburger-homoeopathie.de
SUMMARY:Schnupperkurs A2
DESCRIPTION:Berlin\nA1: 09.-11.10..2026\nA2: 06.-08.11. 2026\nA-Kurs Homöopathie Schnupperkurs/ Einführung in die Homöopathie\nhybrid \nHomöopathie\nSchnupperkurs/A-Kurs\nEinführung in die Homöopathie\nGrundlagen der Homöopathie\nIm ersten Kursteil am Wochenende vom 09.-11.10.2026 erfolgt im Rahmen eines Schnupperkurses eine Einführung in die Homöopathie für Interessenten und Neugierige. \nBei zusätzlicher Buchung des 2. Kursteiles vom 06.-08.11.2026 sind die Inhalte des A-Kurses der Weiterbildung Homöopathie erfüllt.\nDie Homöopathie ist über Selektivverträge auch in der Kassenpraxis gut einsetzbar.\nDieser Kurs ist so konzipiert\, dass die notwendigen theoretischen Hintergründe vor allem an Fall-beispielen besprochen werden. Direkt nach dem ersten Wochenende können Sie eigene Erfahrungen bei der Behandlung von Akut-Patienten sammeln. \nKursinhalte:\n– Arzneimittelbilder von Akutmitteln\n– Das Ähnlichkeits (Simile) -Prinzip\n– Herstellung einer homöopathischen Arznei\n– Fallaufnahme bei akuten Erkrankungen\n– Einführung in die Symptomengewichtung und Repertorisation nach Kent\n– Einführung in die Bönninghausen- Methode mit Polaritäts-Analyse \nKursleitung und Organisation:\nA1: Barbara Teigelkamp\nA2: Dr. Brigitte Jauch-Wimmer \nBVhÄ Tel. 030-8732593\nveranstaltungen@bvhae.de\nDozent*innen: Team des BVhÄ\, siehe Kursplan\nKursgebühren:\nSchnupperkurs: 220 €\nKompletter A-Kurs: 440 €\nStudenten: 50 € (kompletter Kurs)\nKurszeiten:\nSchnupperkurs (A1)\nFreitag\, 09.10.2026: 14:00 – 19:30 Uhr\nSamstag\, 10.10.2026: 09:00 – 18:30 Uhr\nSonntag\, 11.10.2026: 09:00 – 13:30 Uhr\n2. Kursteil des A-Kurses (A2)\nFreitag\, 06.11.2026: 14:00 – 19:30 Uhr\nSamstag\, 07.11.2026: 09:00 – 18:30 Uhr\nSonntag\, 08.11.2026: 09:00 – 13:30 Uhr\nVeranstaltungsort:\nBerliner Verein homöopathischer Ärzte e. V.\nNassauische Straße 2 in 10717 Berlin\noder hybrid\nDie Platzvergabe erfolgt mit Eingang der Kursgebühr. \n\nBitte beachten Sie unser weitere Wochenkurse in Berlin: \nB-Kurs  25.02.2026 – 01.03.2026 / B-Kurs EINLADUNG 2026 / B-Kurs ANMELDUNG 2026 \nE-Kurs  03.06.2026 – 07.06.2026 / E-Kurs EINLADUNG 2026 / E-Kurs Anmeldung 2026 \nA1-Kurs:  09.10 bis 11.10. 26 \nA2-Kurs: 06.11.26 bis 08.11.26  Flyer Einladung+Anmeldung A1+A2-Kurs 2026 \nWochenkurse 2026 in LEIPZIG: \n F-Kurs  22.04.2026 – 26.04.2026 \nC-Kurs  22.04.2026 – 26.04.2026 \nD-Kurs 23.09.2026  – 27.09.2026 \n  \nLink zur Veranstaltungsseite LV Sachsen
URL:https://www.berlin-brandenburger-homoeopathie.de/event/schnupperkurs-a2/
LOCATION:Berliner Verein Homöopathischer Ärzte\, Nassauische Str. 2\, Berlin\, Berlin\, 10717\, Deutschland
CATEGORIES:Wochenkurse/Jahreskurse
END:VEVENT
BEGIN:VEVENT
DTSTART;TZID=Europe/Berlin:20261116T193000
DTEND;TZID=Europe/Berlin:20261116T220000
DTSTAMP:20260426T063033
CREATED:20251217T120310Z
LAST-MODIFIED:20251217T120310Z
UID:5770-1794857400-1794866400@www.berlin-brandenburger-homoeopathie.de
SUMMARY:Termine 2026 der "Boger-Werkstatt"
DESCRIPTION:Boger-Werkstatt:\nFall – Analysen\,\nVerlaufs – Analysen\,\nFall – Management\nHybrid – Supervision \neinmal monatlich\nHybrid Veranstaltung\nPräsenzort:\nBerliner Verein homöopathischer Ärzte e.V.\nNassauische Str.2\n10717 Berlin\noder über ZOOM / WEB-EX \nLiebe Kolleginnen und Kollegen\,\ndie Werkstatt ist ein Arbeitskreis von 15-20 Teilnehmern\, die\neigene v.a. chronische Fälle vorstellen. Diese werden nach der\nArbeitsweise C.M. Bogers analysiert & repertorisiert incl. DD und Materia Medica. Die Follow-Ups werden gemeinsam verfolgt\, das gesamte Fallmanagement erarbeitet und demonstriert.\nC.M. Boger (1861-1935) war einer der erfolgreichsten und bekanntesten Homöopathen seiner Zeit.\nBogers Arbeitsweise ist kein neuer Weg. Sie ist vielmehr eine gro-\nße Synthese aller bis dahin vorliegenden Materiae medicae\, Repertorien (Rep.) und Strategien unter Zuhilfenahme riesiger Fallsammlungen. Boger suchte herauszufinden\, welche Ähnlich-keiten homöopathische Verordnungen besonders erfolgreich machen und wie sich eine möglichst tiefwirkende Arznei finden lässt.\nBogers große Synthese mündete in 2 hochkondensierte Werke :\nSynoptic Key (SK = Rep. & MM auf ~500 Seiten) in 4 Aufl. von\n1915-32 und daraus als Konzentrat das\nGeneral Analysis (GA = Rep. auf nur 27 DIN A 6-Seiten im engl.\nOriginal) in 5 Aufl. von 1924-35. \nMit diesen 2 Werken allein lässt sich eine homöopathische Praxis sicher führen\, davon 90% alleine mit dem kleinen GA. Wie das möglich sein kann\, wird in der Werkstatt demonstriert.\nDie Rep.-Rubriken besitzen eine ungewöhnliche Vielseitigkeit\, didie ausgesprochene Knappheit der Werke ja erst ermöglicht. Für ihre erfolgreiche Verwendung ist ihr tiefes Verständnis und damit ihre sichere Erkenntnis und Anwendung im Fall-Kontext von entscheidender Bedeutung. Das wird konsequent praktiziert. Kasuistiken und Follow-Ups (FUs) werden vom Leiter der Werkstatt auf Vollständigkeit geprüft und dann per Verteiler an die TeilnehmerInnen verschickt\, die sich damit auf den Gruppenabend vorbereiten.  Alle TeilnehmerInnen sind angehalten\, für Effektivität des Lernprozesses und gemeinsames Wachstum Kasuistiken und regelmäßige Follow-Ups (FUs) einzubringen.\nMitzubringen: Dt. GA und SK ( Verlag Ahlbrecht !)\nDie Bücher können auch im BVhÄ ausgeliehen werden \nZeit- und Programmübersicht übers Jahr:\nHybrid Veranstaltung\nPräsenzort:\nBerliner Verein homöopathischer Ärzte e.V.\nNassauische Str.2\n10717 Berlin\noder über ZOOM / WEB-EX\nder Link wird nach Anmeldung 1/4 h vor jedem Termin per Email verschickt. \nSeminarzeiten: \nMontag 19Uhr 30 – 22 Uhr\nPausenzeiten 21:00 -21:15\n(Änderungen vorbehalten) \nGebühren: 25\,00 pro Abend\nzu überweisen auf das Konto:\nDE 72 100 500 00 11 40 20 91 20\nKonto-Inhaber: Christoph Tils\nDer erste Kennenlern-Werkstatt-Abend ist kostenfrei.\nLeitung: Dr.med. Christoph Tils \nTermine in 2026:\nMo 12.01.2026\nMo 23.02.2026\nMo 16.03.2026\nMo 20.04.2026\nMo 18.05.2026\nMo 15.06.2026\nMo 06.07.2026\nMo 24.08.2026\nMo 21.09.2026\nMo 19.10.2026\nMo 16.11.2026\nMo 07.12.2026 \njew. von 19:30 – 22:00\nPause 21:00 bis 21:15 \nDie Werkstatt setzt sich kontinuierlich einmal monatlich im Folgejahr fort. \nFlyer Boger Werkstatt Dr.med.Ch.Tils 2026
URL:https://www.berlin-brandenburger-homoeopathie.de/event/termine-2026-der-boger-werkstatt-10/
LOCATION:Berliner Verein Homöopathischer Ärzte\, Nassauische Str. 2\, Berlin\, Berlin\, 10717\, Deutschland
CATEGORIES:Aktuell,Boger-Werkstatt,Homöopathie,Seminare + Fortbildung
ORGANIZER;CN="Berliner Verein Hom%C3%B6opathischer %C3%84rzte e.V.":MAILTO:info@bvhae.de
END:VEVENT
BEGIN:VEVENT
DTSTART;TZID=Europe/Berlin:20261120T170000
DTEND;TZID=Europe/Berlin:20261120T200000
DTSTAMP:20260426T063033
CREATED:20251215T094229Z
LAST-MODIFIED:20251217T112746Z
UID:5715-1795194000-1795204800@www.berlin-brandenburger-homoeopathie.de
SUMMARY:Supervision-Termine 2026: Fallbesprechungen akuter und chronischer Behandlungsfälle
DESCRIPTION:Fallbesprechungen akuter und chronischer Behandlungsfälle\nHybrid-Veranstaltung\nBarbara Teigelkamp \n \nLiebe Kolleginnen und Kollegen\,\nauch im Jahr 2026 bietet der Qualitätszirkel von Barbara Teigelkamp die Gelegenheit in kollegialer Runde methodenoffen homöopathische Themen und eigene Fälle zu besprechen.\nIm Mittelpunkt steht dabei die Fallanalyse akuter und chronischer homöopathischer Behandlungsfälle mit wahlanzeigenden Symptomen\, Repertorisation und Differentialdiagnose unter Zuhilfenahme verschiedener Repertorien und Arzneimittellehren\, einschließlich Bewertung der Reaktion und Begründung für einen Wechsel \nVorgesehene Termine:\nFreitag\, 16.01.2026\nFreitag\, 06.03.2026\nFreitag\, 29.05.2026\nFreitag\, 28.08.2026\nFreitag\, 16.10.2026\nFreitag\, 20.11.2026\njeweils 17-20 Uhr\nDer Qualitätszirkel wird hybrid abgehalten\, mit Präsenz in den Räumen des BVhÄ. \nSeminarzeiten: Freitag 17-20 Uhr\nPausenzeiten 17:45-18:00\n(Änderungen vorbehalten) \nDer Qualitätszirkel wird hybrid abgehalten\, mit Präsenz in den Räumen des BVhÄ. \nÄK-Punkte beantragt\nDiplompunkte: 3 pro Termin \nGebühren: 30\,00 pro Abend ( am Ende des Jahres per Bankeinzug oder Überweisung ) \nLeitung: Barbara Teigelkamp \nAnmeldebedingungen:\nWir weisen darauf hin\, dass die einschlägigen Vorschriften des Datenschutzes (Schweigepflicht\, Sozialdatenschutz\, Schutz von personenbezogenen Daten) bei Vorstellungen von Behandlungsfällen oder anderweitiger Bekanntgabe von mit Patienten\nin Verbindung stehenden Informationen unbedingt einzuhalten sind. Mit Ihrer Anmeldung zu der genannten Veranstaltung bestätigen Sie uns\, dass Sie zur Kenntnis genommen haben\, dass die Verantwortung für die Einhaltung dieser Vorschriften für die von Ihnen im Rahmen dieses Kurses öffentlich gemachten Informationen bei Ihnen liegt.\nHinweis:\nIhre personengebundenen Daten und Seminar- unterlagen stehen nur noch 5 Jahre für eventuelle Rückfragen zur Verfügung \nFlyer Qualitätszirkel Teigelkamp 2026
URL:https://www.berlin-brandenburger-homoeopathie.de/event/qualitaetszirkel-termine-2026-fallbesprechungen-akuter-und-chronischer-behandlungsfaelle-5/
LOCATION:Berliner Verein Homöopathischer Ärzte\, Nassauische Str. 2\, Berlin\, Berlin\, 10717\, Deutschland
CATEGORIES:Aktuell,Fallbesprechungen,Homöopathie,Qualitätszirkel,Seminare + Fortbildung
ORGANIZER;CN="Berliner Verein Hom%C3%B6opathischer %C3%84rzte e.V.":MAILTO:info@bvhae.de
END:VEVENT
BEGIN:VEVENT
DTSTART;VALUE=DATE:20261128
DTEND;VALUE=DATE:20261130
DTSTAMP:20260426T063033
CREATED:20260121T105542Z
LAST-MODIFIED:20260424T090540Z
UID:5824-1795824000-1795996799@www.berlin-brandenburger-homoeopathie.de
SUMMARY:Dreijahreskurs Homöopathie
DESCRIPTION:Der Berliner Verein homöopathischer Ärzte bietet ab Januar 2026 einen Dreijahreskurs Homöopathie in hybrid an. \nLiebe Kolleginnen und Kollegen\, wir sind ein Team von langjährig praxiserfahrenen ärztlichen Homöopath*innen und möchten unsere Erfahrungen an Sie in dem neuen Dreijahreskurs gerne weitergeben. \nUnser Ausbildungskonzept beruht auf dem Grundsatz des problemorientierten Lernens\, d.h. alle Lerninhalte leiten sich aus Problem- und Anforderungssituationen eines konkreten Falles ab. Dazu werden wir im Kurs überwiegend reale Fälle mit Ihnen erarbeiten\, die wir Ihnen unterschiedlich präsentieren:\nLive\, per Video\, als „Papier-Fall“ oder / Supervisionsfälle der Teilnehmer*innen. \nWir freuen uns auf Sie! \nKursleiterin: Barbara Teigelkamp\nBarbara Teigelkamp\nÄrztin mit über 20jähriger Vollzeit- homöopathischer Praxistätigkeit\, Dozentin mit Weiterbildungsermächtigung\, didaktischer Ausbildung und Lehrerfahrung in problemorientiertem Lernen\, Klassisch-homöopathische Ausbildung und Fortbildungen u.a. bei Dr. Dario Spinedi und Dr. Norbert Enders \nDozent: Daniel Reinhardt\nDaniel Reinhardt\nMedizin-Studium in Jena\, Facharztweiterbildung Pädiatrie in Weimar\, Jena und Apolda. Dreijahreskurs bei B. Jauch- Wimmer\, B. Krèmer und Chr. Albrecht. Seit 2013 angestellt in der Kinderklinik Apolda mit homöopathischem Schwerpunkt auf begleitender Akuthomöopathie \nTermine 2026:\n24./25.01.2026\n28./29.03.2026\n25./26.04.2026\n04./05.07.2026\n19./20.09.2026\n28./29.11.2026\nSeminar- und Pausenzeiten (jeweils\nsamstags und sonntags)\n10:00 – 11:30\n11:30 – 11:45 Pause\n11:45 – 13:15\n13:15 – 14:30 Pause\n14:30 – 16:00\n16:00 – 16:15 Pause\n16:15 – 17:45\n(Änderungen vorbehalten) \nKursgebühren:\npro Semester 510\,00 € für Mitglieder und 600\,00 € für Nichtmitglieder (zwei Semester pro Kalenderjahr)\n\nAnmeldebedingungen: Die Zahlung erfolgt mittels SEPA-Lastschriftverfahren (bitte geben Sie dazu Ihre\nvollständige IBAN an.) \nWir weisen darauf hin\, dass die einschlägigen Vorschriften des Datenschutzes (Schweigepflicht\, Sozialdatenschutz\, Schutz von personenbezogenen Daten) bei Vorstellungen von Behandlungsfällen oder anderweitiger Bekanntgabe von mit Patienten in Verbindung stehenden Informationen unbedingteinzuhalten sind. Mit Ihrer Anmeldung zu der genannten Veranstaltung bestätigen Sie uns\, dass Sie zur Kenntnis genommen haben\, dass die Verantwortung für die\nEinhaltung dieser Vorschriften für die von Ihnen im Rahmen dieses Kurses öffentlich gemachten Informationen bei Ihnen liegt.\nAnmeldung \nFlyer Dreijahreskurs 2026-2028
URL:https://www.berlin-brandenburger-homoeopathie.de/event/dreijahreskurs-homoeopathie-5/
LOCATION:online\, Webinar
CATEGORIES:Seminare + Fortbildung,Wochenkurse/Jahreskurse
ATTACH;FMTTYPE=image/jpeg:https://www.berlin-brandenburger-homoeopathie.de/lvbb/wp-content/uploads/2025/05/beitragsbild-HomDipl.jpg
ORGANIZER;CN="Berliner Verein Hom%C3%B6opathischer %C3%84rzte e.V.":MAILTO:info@bvhae.de
END:VEVENT
BEGIN:VEVENT
DTSTART;TZID=Europe/Berlin:20261207T193000
DTEND;TZID=Europe/Berlin:20261207T220000
DTSTAMP:20260426T063033
CREATED:20251217T120336Z
LAST-MODIFIED:20260424T090526Z
UID:5772-1796671800-1796680800@www.berlin-brandenburger-homoeopathie.de
SUMMARY:Termine 2026 der "Boger-Werkstatt"
DESCRIPTION:Boger-Werkstatt:\nFall – Analysen\,\nVerlaufs – Analysen\,\nFall – Management\nHybrid – Supervision \neinmal monatlich\nHybrid Veranstaltung\nPräsenzort:\nBerliner Verein homöopathischer Ärzte e.V.\nNassauische Str.2\n10717 Berlin\noder über ZOOM / WEB-EX \nLiebe Kolleginnen und Kollegen\,\ndie Werkstatt ist ein Arbeitskreis von 15-20 Teilnehmern\, die\neigene v.a. chronische Fälle vorstellen. Diese werden nach der\nArbeitsweise C.M. Bogers analysiert & repertorisiert incl. DD und Materia Medica. Die Follow-Ups werden gemeinsam verfolgt\, das gesamte Fallmanagement erarbeitet und demonstriert.\nC.M. Boger (1861-1935) war einer der erfolgreichsten und bekanntesten Homöopathen seiner Zeit.\nBogers Arbeitsweise ist kein neuer Weg. Sie ist vielmehr eine gro-\nße Synthese aller bis dahin vorliegenden Materiae medicae\, Repertorien (Rep.) und Strategien unter Zuhilfenahme riesiger Fallsammlungen. Boger suchte herauszufinden\, welche Ähnlich-keiten homöopathische Verordnungen besonders erfolgreich machen und wie sich eine möglichst tiefwirkende Arznei finden lässt.\nBogers große Synthese mündete in 2 hochkondensierte Werke :\nSynoptic Key (SK = Rep. & MM auf ~500 Seiten) in 4 Aufl. von\n1915-32 und daraus als Konzentrat das\nGeneral Analysis (GA = Rep. auf nur 27 DIN A 6-Seiten im engl.\nOriginal) in 5 Aufl. von 1924-35. \nMit diesen 2 Werken allein lässt sich eine homöopathische Praxis sicher führen\, davon 90% alleine mit dem kleinen GA. Wie das möglich sein kann\, wird in der Werkstatt demonstriert.\nDie Rep.-Rubriken besitzen eine ungewöhnliche Vielseitigkeit\, didie ausgesprochene Knappheit der Werke ja erst ermöglicht. Für ihre erfolgreiche Verwendung ist ihr tiefes Verständnis und damit ihre sichere Erkenntnis und Anwendung im Fall-Kontext von entscheidender Bedeutung. Das wird konsequent praktiziert. Kasuistiken und Follow-Ups (FUs) werden vom Leiter der Werkstatt auf Vollständigkeit geprüft und dann per Verteiler an die TeilnehmerInnen verschickt\, die sich damit auf den Gruppenabend vorbereiten.  Alle TeilnehmerInnen sind angehalten\, für Effektivität des Lernprozesses und gemeinsames Wachstum Kasuistiken und regelmäßige Follow-Ups (FUs) einzubringen.\nMitzubringen: Dt. GA und SK ( Verlag Ahlbrecht !)\nDie Bücher können auch im BVhÄ ausgeliehen werden \nZeit- und Programmübersicht übers Jahr:\nHybrid Veranstaltung\nPräsenzort:\nBerliner Verein homöopathischer Ärzte e.V.\nNassauische Str.2\n10717 Berlin\noder über ZOOM / WEB-EX\nder Link wird nach Anmeldung 1/4 h vor jedem Termin per Email verschickt. \nSeminarzeiten: \nMontag 19Uhr 30 – 22 Uhr\nPausenzeiten 21:00 -21:15\n(Änderungen vorbehalten) \nGebühren: 25\,00 pro Abend\nzu überweisen auf das Konto:\nDE 72 100 500 00 11 40 20 91 20\nKonto-Inhaber: Christoph Tils\nDer erste Kennenlern-Werkstatt-Abend ist kostenfrei.\nLeitung: Dr.med. Christoph Tils \nTermine in 2026:\nMo 12.01.2026\nMo 23.02.2026\nMo 16.03.2026\nMo 20.04.2026\nMo 18.05.2026\nMo 15.06.2026\nMo 06.07.2026\nMo 24.08.2026\nMo 21.09.2026\nMo 19.10.2026\nMo 16.11.2026\nMo 07.12.2026 \njew. von 19:30 – 22:00\nPause 21:00 bis 21:15 \nDie Werkstatt setzt sich kontinuierlich einmal monatlich im Folgejahr fort. \nFlyer Boger Werkstatt Dr.med.Ch.Tils 2026
URL:https://www.berlin-brandenburger-homoeopathie.de/event/termine-2026-der-boger-werkstatt-11/
LOCATION:Berliner Verein Homöopathischer Ärzte\, Nassauische Str. 2\, Berlin\, Berlin\, 10717\, Deutschland
CATEGORIES:Aktuell,Boger-Werkstatt,Homöopathie,Seminare + Fortbildung
ORGANIZER;CN="Berliner Verein Hom%C3%B6opathischer %C3%84rzte e.V.":MAILTO:info@bvhae.de
END:VEVENT
BEGIN:VEVENT
DTSTART;TZID=Europe/Berlin:20261209T180000
DTEND;TZID=Europe/Berlin:20261209T200000
DTSTAMP:20260426T063033
CREATED:20251217T121342Z
LAST-MODIFIED:20260424T091253Z
UID:5792-1796839200-1796846400@www.berlin-brandenburger-homoeopathie.de
SUMMARY:Weiterbildungsreihe Homöopa-TIK: Theorie\, Intervision\, Kon-Struktion
DESCRIPTION:Liebe Kolleginnen und Kollegen\,\nseid dem Jahr 2024 läuft im Berliner Verein homöopathischer Ärzte e.V. eine Veranstaltungsreihe\, die den kollegialen Austausch innerhalb des Vereins fördern soll. Die Gruppe beschäftigt sich mit der Theorie\, der Praxis und der Zukunft der Homöopathie.\nJeweils zwei Stunden etwa alle sechs Wochen gibt es online/hybrid die Möglichkeit dazu.\nZunächst möchten wir das „Organon“ und die „Chronischen Krankheiten“ gemeinsam lesen und diskutieren.\nIm Anschluss daran gibt es die Möglichkeit einer methodenoffenen Intervision von Fällen.\nEin Quereinstieg in die laufende Gruppe ist jederzeit möglich \nHerzliche Grüße\nMartin Kiesel \nZunächst geplante Termine in 2026:\nMi 21.01.2026 um 18 bis 20 Uhr hybrid\nMi 11.03. 2026 um 18 bis 20 Uhr hybrid\nMi 22.04.2026 um 18 bis 20 Uhr hybrid\nMi 03.06.2026um 18 bis 20 Uhr hybrid\nMi 02.09.2026 um 18 bis 20 Uhr hybrid\nMi 28.10.2026 um 18 bis 20 Uhr hybrid\nMi 09.12.2026 um 18 bis 20 Uhr hybrid\nDie Reihe wird hybrid abgehalten\, mit Präsenz in den Räumen des BVhÄ. \nSeminarzeiten: 18:00 bis 20:00\nSeminargebühren:\nDiese Reihe wird kostenfrei angeboten.\nLeitung:\nMartin Kiesel\nAnmeldebedingungen: \nHinweis:\nIhre personengebundenen Daten und Seminar- unterlagen stehen nur noch 5 Jahre für eventuelle Rückfragen zur Verfügung \nFlyer Weiterbildungsreihe Homöopatik-2026
URL:https://www.berlin-brandenburger-homoeopathie.de/event/weiterbildungsreihe-homoeopa-tik-theorie-intervision-kon-struktion-5/
LOCATION:Berliner Verein Homöopathischer Ärzte\, Nassauische Str. 2\, Berlin\, Berlin\, 10717\, Deutschland
CATEGORIES:Seminare + Fortbildung,Wochenkurse/Jahreskurse
ORGANIZER;CN="Berliner Verein Hom%C3%B6opathischer %C3%84rzte e.V.":MAILTO:info@bvhae.de
END:VEVENT
END:VCALENDAR