BEGIN:VCALENDAR
VERSION:2.0
PRODID:-//Homöopathie Berlin Brandenburg - ECPv6.15.20//NONSGML v1.0//EN
CALSCALE:GREGORIAN
METHOD:PUBLISH
X-WR-CALNAME:Homöopathie Berlin Brandenburg
X-ORIGINAL-URL:https://www.berlin-brandenburger-homoeopathie.de
X-WR-CALDESC:Veranstaltungen für Homöopathie Berlin Brandenburg
REFRESH-INTERVAL;VALUE=DURATION:PT1H
X-Robots-Tag:noindex
X-PUBLISHED-TTL:PT1H
BEGIN:VTIMEZONE
TZID:Europe/Berlin
BEGIN:DAYLIGHT
TZOFFSETFROM:+0100
TZOFFSETTO:+0200
TZNAME:CEST
DTSTART:20250330T010000
END:DAYLIGHT
BEGIN:STANDARD
TZOFFSETFROM:+0200
TZOFFSETTO:+0100
TZNAME:CET
DTSTART:20251026T010000
END:STANDARD
BEGIN:DAYLIGHT
TZOFFSETFROM:+0100
TZOFFSETTO:+0200
TZNAME:CEST
DTSTART:20260329T010000
END:DAYLIGHT
BEGIN:STANDARD
TZOFFSETFROM:+0200
TZOFFSETTO:+0100
TZNAME:CET
DTSTART:20261025T010000
END:STANDARD
BEGIN:DAYLIGHT
TZOFFSETFROM:+0100
TZOFFSETTO:+0200
TZNAME:CEST
DTSTART:20270328T010000
END:DAYLIGHT
BEGIN:STANDARD
TZOFFSETFROM:+0200
TZOFFSETTO:+0100
TZNAME:CET
DTSTART:20271031T010000
END:STANDARD
END:VTIMEZONE
BEGIN:VEVENT
DTSTART;TZID=Europe/Berlin:20260420T193000
DTEND;TZID=Europe/Berlin:20260420T220000
DTSTAMP:20260422T101454
CREATED:20251217T115949Z
LAST-MODIFIED:20251217T115949Z
UID:5756-1776713400-1776722400@www.berlin-brandenburger-homoeopathie.de
SUMMARY:Termine 2026 der "Boger-Werkstatt"
DESCRIPTION:Boger-Werkstatt:\nFall – Analysen\,\nVerlaufs – Analysen\,\nFall – Management\nHybrid – Supervision \neinmal monatlich\nHybrid Veranstaltung\nPräsenzort:\nBerliner Verein homöopathischer Ärzte e.V.\nNassauische Str.2\n10717 Berlin\noder über ZOOM / WEB-EX \nLiebe Kolleginnen und Kollegen\,\ndie Werkstatt ist ein Arbeitskreis von 15-20 Teilnehmern\, die\neigene v.a. chronische Fälle vorstellen. Diese werden nach der\nArbeitsweise C.M. Bogers analysiert & repertorisiert incl. DD und Materia Medica. Die Follow-Ups werden gemeinsam verfolgt\, das gesamte Fallmanagement erarbeitet und demonstriert.\nC.M. Boger (1861-1935) war einer der erfolgreichsten und bekanntesten Homöopathen seiner Zeit.\nBogers Arbeitsweise ist kein neuer Weg. Sie ist vielmehr eine gro-\nße Synthese aller bis dahin vorliegenden Materiae medicae\, Repertorien (Rep.) und Strategien unter Zuhilfenahme riesiger Fallsammlungen. Boger suchte herauszufinden\, welche Ähnlich-keiten homöopathische Verordnungen besonders erfolgreich machen und wie sich eine möglichst tiefwirkende Arznei finden lässt.\nBogers große Synthese mündete in 2 hochkondensierte Werke :\nSynoptic Key (SK = Rep. & MM auf ~500 Seiten) in 4 Aufl. von\n1915-32 und daraus als Konzentrat das\nGeneral Analysis (GA = Rep. auf nur 27 DIN A 6-Seiten im engl.\nOriginal) in 5 Aufl. von 1924-35. \nMit diesen 2 Werken allein lässt sich eine homöopathische Praxis sicher führen\, davon 90% alleine mit dem kleinen GA. Wie das möglich sein kann\, wird in der Werkstatt demonstriert.\nDie Rep.-Rubriken besitzen eine ungewöhnliche Vielseitigkeit\, didie ausgesprochene Knappheit der Werke ja erst ermöglicht. Für ihre erfolgreiche Verwendung ist ihr tiefes Verständnis und damit ihre sichere Erkenntnis und Anwendung im Fall-Kontext von entscheidender Bedeutung. Das wird konsequent praktiziert. Kasuistiken und Follow-Ups (FUs) werden vom Leiter der Werkstatt auf Vollständigkeit geprüft und dann per Verteiler an die TeilnehmerInnen verschickt\, die sich damit auf den Gruppenabend vorbereiten.  Alle TeilnehmerInnen sind angehalten\, für Effektivität des Lernprozesses und gemeinsames Wachstum Kasuistiken und regelmäßige Follow-Ups (FUs) einzubringen.\nMitzubringen: Dt. GA und SK ( Verlag Ahlbrecht !)\nDie Bücher können auch im BVhÄ ausgeliehen werden \nZeit- und Programmübersicht übers Jahr:\nHybrid Veranstaltung\nPräsenzort:\nBerliner Verein homöopathischer Ärzte e.V.\nNassauische Str.2\n10717 Berlin\noder über ZOOM / WEB-EX\nder Link wird nach Anmeldung 1/4 h vor jedem Termin per Email verschickt. \nSeminarzeiten: \nMontag 19Uhr 30 – 22 Uhr\nPausenzeiten 21:00 -21:15\n(Änderungen vorbehalten) \nGebühren: 25\,00 pro Abend\nzu überweisen auf das Konto:\nDE 72 100 500 00 11 40 20 91 20\nKonto-Inhaber: Christoph Tils\nDer erste Kennenlern-Werkstatt-Abend ist kostenfrei.\nLeitung: Dr.med. Christoph Tils \nTermine in 2026:\nMo 12.01.2026\nMo 23.02.2026\nMo 16.03.2026\nMo 20.04.2026\nMo 18.05.2026\nMo 15.06.2026\nMo 06.07.2026\nMo 24.08.2026\nMo 21.09.2026\nMo 19.10.2026\nMo 16.11.2026\nMo 07.12.2026 \njew. von 19:30 – 22:00\nPause 21:00 bis 21:15 \nDie Werkstatt setzt sich kontinuierlich einmal monatlich im Folgejahr fort. \nFlyer Boger Werkstatt Dr.med.Ch.Tils 2026
URL:https://www.berlin-brandenburger-homoeopathie.de/event/termine-2026-der-boger-werkstatt-3/
LOCATION:Berliner Verein Homöopathischer Ärzte\, Nassauische Str. 2\, Berlin\, Berlin\, 10717\, Deutschland
CATEGORIES:Aktuell,Boger-Werkstatt,Fortbildung,Homöopathie
ORGANIZER;CN="Berliner Verein Hom%C3%B6opathischer %C3%84rzte e.V.":MAILTO:info@bvhae.de
END:VEVENT
END:VCALENDAR