BEGIN:VCALENDAR
VERSION:2.0
PRODID:-//Homöopathie Berlin Brandenburg - ECPv6.15.20//NONSGML v1.0//EN
CALSCALE:GREGORIAN
METHOD:PUBLISH
X-WR-CALNAME:Homöopathie Berlin Brandenburg
X-ORIGINAL-URL:https://www.berlin-brandenburger-homoeopathie.de
X-WR-CALDESC:Veranstaltungen für Homöopathie Berlin Brandenburg
REFRESH-INTERVAL;VALUE=DURATION:PT1H
X-Robots-Tag:noindex
X-PUBLISHED-TTL:PT1H
BEGIN:VTIMEZONE
TZID:Europe/Berlin
BEGIN:DAYLIGHT
TZOFFSETFROM:+0100
TZOFFSETTO:+0200
TZNAME:CEST
DTSTART:20240331T010000
END:DAYLIGHT
BEGIN:STANDARD
TZOFFSETFROM:+0200
TZOFFSETTO:+0100
TZNAME:CET
DTSTART:20241027T010000
END:STANDARD
BEGIN:DAYLIGHT
TZOFFSETFROM:+0100
TZOFFSETTO:+0200
TZNAME:CEST
DTSTART:20250330T010000
END:DAYLIGHT
BEGIN:STANDARD
TZOFFSETFROM:+0200
TZOFFSETTO:+0100
TZNAME:CET
DTSTART:20251026T010000
END:STANDARD
BEGIN:DAYLIGHT
TZOFFSETFROM:+0100
TZOFFSETTO:+0200
TZNAME:CEST
DTSTART:20260329T010000
END:DAYLIGHT
BEGIN:STANDARD
TZOFFSETFROM:+0200
TZOFFSETTO:+0100
TZNAME:CET
DTSTART:20261025T010000
END:STANDARD
END:VTIMEZONE
BEGIN:VEVENT
DTSTART;TZID=Europe/Berlin:20250412T093000
DTEND;TZID=Europe/Berlin:20250413T133000
DTSTAMP:20260422T032851
CREATED:20250128T153656Z
LAST-MODIFIED:20250128T153746Z
UID:4869-1744450200-1744551000@www.berlin-brandenburger-homoeopathie.de
SUMMARY:12. und 13. April 2025 - Hybrid-Veranstaltung - Seminar mit Dr. med. Anton Koch: Therapien bei Folgen von akuten und chronischen Infektionskrankheiten
DESCRIPTION:In seinem Seminar (Hybrid-Veranstaltung) „Prinzipien der homöopathischen Therapie bei Folgen von akuten und chronischen Infektionskrankheiten“ wird Dr. med. Anton Koch den Bogen spannen zwischen einem philosophisch humanistischen Intro zu alltagsrelevanten Fallbesprechungen aus seiner hausärztlichen Arbeit. Es sind 12 ÄK-Punkte und 12 Diplompunkte beantragt. Hier zum Flyer mit mehr Infos und Anmeldung.
URL:https://www.berlin-brandenburger-homoeopathie.de/event/12-und-13-april-2025-hybrid-veranstaltung-seminar-mit-dr-med-anton-koch-therapien-bei-folgen-von-akuten-und-chronischen-infektionskrankheiten/
LOCATION:Berlin
CATEGORIES:Aktuell,Fortbildung,Homöopathie,Vorträge
END:VEVENT
END:VCALENDAR