BEGIN:VCALENDAR
VERSION:2.0
PRODID:-//Homöopathie Berlin Brandenburg - ECPv6.15.20//NONSGML v1.0//EN
CALSCALE:GREGORIAN
METHOD:PUBLISH
X-ORIGINAL-URL:https://www.berlin-brandenburger-homoeopathie.de
X-WR-CALDESC:Veranstaltungen für Homöopathie Berlin Brandenburg
REFRESH-INTERVAL;VALUE=DURATION:PT1H
X-Robots-Tag:noindex
X-PUBLISHED-TTL:PT1H
BEGIN:VTIMEZONE
TZID:Europe/Berlin
BEGIN:DAYLIGHT
TZOFFSETFROM:+0100
TZOFFSETTO:+0200
TZNAME:CEST
DTSTART:20190331T010000
END:DAYLIGHT
BEGIN:STANDARD
TZOFFSETFROM:+0200
TZOFFSETTO:+0100
TZNAME:CET
DTSTART:20191027T010000
END:STANDARD
BEGIN:DAYLIGHT
TZOFFSETFROM:+0100
TZOFFSETTO:+0200
TZNAME:CEST
DTSTART:20200329T010000
END:DAYLIGHT
BEGIN:STANDARD
TZOFFSETFROM:+0200
TZOFFSETTO:+0100
TZNAME:CET
DTSTART:20201025T010000
END:STANDARD
BEGIN:DAYLIGHT
TZOFFSETFROM:+0100
TZOFFSETTO:+0200
TZNAME:CEST
DTSTART:20210328T010000
END:DAYLIGHT
BEGIN:STANDARD
TZOFFSETFROM:+0200
TZOFFSETTO:+0100
TZNAME:CET
DTSTART:20211031T010000
END:STANDARD
BEGIN:DAYLIGHT
TZOFFSETFROM:+0100
TZOFFSETTO:+0200
TZNAME:CEST
DTSTART:20220327T010000
END:DAYLIGHT
BEGIN:STANDARD
TZOFFSETFROM:+0200
TZOFFSETTO:+0100
TZNAME:CET
DTSTART:20221030T010000
END:STANDARD
BEGIN:DAYLIGHT
TZOFFSETFROM:+0100
TZOFFSETTO:+0200
TZNAME:CEST
DTSTART:20230326T010000
END:DAYLIGHT
BEGIN:STANDARD
TZOFFSETFROM:+0200
TZOFFSETTO:+0100
TZNAME:CET
DTSTART:20231029T010000
END:STANDARD
BEGIN:DAYLIGHT
TZOFFSETFROM:+0100
TZOFFSETTO:+0200
TZNAME:CEST
DTSTART:20240331T010000
END:DAYLIGHT
BEGIN:STANDARD
TZOFFSETFROM:+0200
TZOFFSETTO:+0100
TZNAME:CET
DTSTART:20241027T010000
END:STANDARD
END:VTIMEZONE
BEGIN:VEVENT
DTSTART;VALUE=DATE:20200328
DTEND;VALUE=DATE:20230303
DTSTAMP:20260420T181456
CREATED:20200113T152922Z
LAST-MODIFIED:20221024T142938Z
UID:2615-1585353600-1677801599@www.berlin-brandenburger-homoeopathie.de
SUMMARY:Dreijahreskurs Homöopathie Berlin
DESCRIPTION:Dreijahreskurs Homöopathie Berlin\nDreijahreskurs Homöopathie\, 300 Stunden Fallseminare – als notwendiger Bestandteil der Zusatzbezeichnung Homöopathie und des Diploms. \nBeginn: 28. März 2020 \n \nAn 5 Wochenenden im Jahr \, samstags von 10:00 – 17:45 Uhr\, 8 Unterrichtsstunden und sonntags von 10:00 bis 17:45 \, 8 Unterrichtstunden \nTermine 2021 \n\nSa/So 29.-30.05.2021\nSa/So 14.-15.08.2021\nSa/So 13.-14.11.2021\nSa/So 04.-05.12.2021\n\nKosten: pro Semester 480\,00 Euro für Mitglieder und 570\,00 Euro für Nichtmitglieder – zwei Semester pro Jahr \nOrt: Der Kurs findet als Video-Seminar statt. \nAnmeldung: info@bvhae.de \nLiebe Kolleginnen und Kollegen\, \nwir sind ein Team von 3 langjährig praxiserfahrenen ärztlichen Homöopathen. Dr. Karin Bandelin\, Andreas Holling\, Barbara Teigelkamp. \nWir möchten unsere Erfahrungen aus der Praxis für die Praxis weitergeben und wir werden überwiegend reale Fälle behandeln. Unser Ausbildungskonzept beruht auf dem Grundsatz des Problem-orientierten-Lernens\, d.h.\, alle Lerninhalte leiten sich aus konkreten Problem- und Anforderungssituationen eines konkreten Falles ab. Die Fälle werden unterschiedlich präsentiert: \nLive / Video / Papier-Fälle / Supervisionsfälle der Teilnehmer \nWir freuen uns auf Sie! \nKarin Bandelin         Andreas Holling Barbara Teigelkamp \n \nKarin Bandelin: Niedergelassen in klassisch homöopathischer Hausarztpraxis seit 1982\, homöopathische Ausbildung bei Jobst Künzli von Fimelsberg\, Ananda Zaren\, Georgos Vithoulkas und anderen\, Dozentin der Berliner 3 Jahreskurse mit Weiterbildungsermächtigung seit 1985\, der Wiener Studenteninitiative\, der Augsburger 3 Monatskurse\, Vortragstätigkeit im In- und Ausland. \nAndreas Holling: Arzt für Allgemeinmedizin – Homöopathie\, privater Praxis tätig in Münster i.Westf. seit 1986\, Ausbildungen seit 1982 bei J.Künzli\, J. Becker\, J.Shah\, R.Sankaran. Drei-Jahres-Kurs Fallseminare in Münster/Appelhülsen bis zum 1992-2005.  Autor von der HomöoQuest-Lernkartei. Ab 1992-2001 Ausbildung bei Jayesh Shah – danach bei Rajan Sankaran in Bombay  (November Workshops und 2001-2008). Seitdem überwiegende Anwendung und Unterricht in der Empfindungsmethode ergänzt durch Boger- und Bönninghausenmethode. Auf Scholten und Sankaran aufbauend Entwicklung eines eigenen Konzeptes zum Periodensystem der Elemente (Dimensionen). \nBarbara Teigelkamp: Ärztin – Homöopathie\, Dozentin mit Weiterbildungsermächtigung\, didaktischer Ausbildung und Lehrerfahrung im Problem-orientierten-Lernen.  Langjährige vollzeit-homöopathische Praxistätigkeit\, akute und chronische Erkrankungen bei Kindern und Erwachsenen. Klassisch homöopathische Ausbildung u.a. bei Spinedi und Enders. \n  \n 
URL:https://www.berlin-brandenburger-homoeopathie.de/event/dreijahreskurs-homoeopathie-in-berlin/
LOCATION:Berliner Verein Homöopathischer Ärzte\, Nassauische Str. 2\, Berlin\, Berlin\, 10717\, Deutschland
CATEGORIES:Fortbildung
ORGANIZER;CN="Berliner Verein Hom%C3%B6opathischer %C3%84rzte e.V.":MAILTO:info@bvhae.de
END:VEVENT
BEGIN:VEVENT
DTSTART;VALUE=DATE:20210821
DTEND;VALUE=DATE:20210823
DTSTAMP:20260420T181456
CREATED:20200826T142603Z
LAST-MODIFIED:20210519T112146Z
UID:2960-1629504000-1629676799@www.berlin-brandenburger-homoeopathie.de
SUMMARY:„Homöopathische Behandlung von Autoimmunkrankheiten“ mit Jan Scholten
DESCRIPTION:„Homöopathische Behandlung von Autoimmunkrankheiten“ mit Jan Scholten\nSeminarzeiten:\nSamstag\, 21.08.2021+\nSonntag\, 22.08.2021\n09:30 – 17:00 Uhr \n \nLiebe Kolleginnen und Kollegen\, \nder bekannte holländische Arzt Jan Scholten kommt nach langer Zeit wieder zu uns als Dozent. \nIn diesem Seminar werden Theorie und Pathologie der Autoimmunerkrankungen behandelt und dazu Fälle vorgestellt. Krankheiten wie Colitis ulcerosa\, rheumatoide Arthritis oder Multiple Sklerose können ärztlich homöopathisch (mit-)behandelt werden\, insbesondere bei chronischen\, komplizierten Verläufen. \nIm Seminar nehmen Verlaufsbeurteilung und Fallsteuerung einen wesentlichen Raum ein\, um den Patienten umfassend ärztlich gerecht zu werden und jede Patientengefährdung zu vermeiden. Anhand der Fälle stellt Jan Scholten seine Theorie der Elemente und seinen Ansatz zur Anwendung von pflanzlichen homöopathischen Arzneimitteln vor. \nJan Scholten führt seit 1985 seine eigene ärztlich-homöopathische Praxis und gründete 1988 das homöopathische Ärztezentrum in Utrecht. Sein Grundlagenwerk „ Wunderbare Pflanzen“ zeigt die pflanzlichen Mittel der Homöopathie in einer eigenen Ordnung und dient als Nachschlagewerk. \nDas Seminar wird in deutscher Sprache gehalten und ist sowohl für Einsteiger in die ärztliche Homöopathie\, als auch für erfahrene Homöopathen geeignet. \nZeit- und Programmübersicht:\nSamstag:\n09:30 -10:45 Uhr\nTheorie und Pathologie Autoimmunkrankheiten \n11:15 – 12:30 Uhr\nTheorie und Pathologie Multipler Sklerose \n14:00 – 15:15 Uhr\nKasuistiken Multipler Sklerose \n15:45 – 17:00 Uhr\nMineralische Arzneimittel\, Buchvorstellung\nHomöopathie und die Elemente \nSonntag:\n09:30 -10:45 Uhr\nTheorie und Pathologie von Colitis ulcerosa\nKasuistiken Colitis ulcerosa \n11:15 – 12:30 Uhr\nTheorie und Pathologie Rheumatoider Arthritis\nKasuistiken Rheumatoider Athritis \n14:00 – 15:15 Uhr\nEinführung der pflanzlichen Arzneimittel \n15:45 – 17:00 Uhr\nBuchvorstellung Wunderbare Pflanzen \nSeminarzeiten:\nSamstag\, 21.08.2021+\nSonntag\, 22.08.2021\n09:30 – 17:00 Uhr \nPausenzeiten 10:45 – 11:15 Uhr \n12:30 – 14:00 Uhr (Mittagspause)\n15:15 – 15:45 Uhr\n(Änderungen vorbehalten) \nSeminargebühren:\nbei Eingang der Anmeldung\nbis 21.07.2021 € 220\,– für Mitglieder DZVhÄ\n€ 250\,– für Nichtmitglieder \nab 22.07.2021 € 250\,– für Mitglieder DZVhÄ\n€ 280\,– für Nichtmitglieder \nSeminarleitung: Elisa Jost-Bijlsma \nAnmeldebedingungen: \nDie Anmeldung wird erst mit Eingang des SEPA-Lastschriftmandats\nwirksam. Eine Stornierung des Seminars/Wochenkurses ist bis 3\nWochen vor Veranstaltungsbeginn unter Einbehaltung einer\nBearbeitungsgebühr von 30\,00 möglich .Ab dem 21. bis 14.\nKalendertag vor Beginn des Seminars/Wochenkurses fällt eine\nStornierungsgebühr von 50% an. Ab dem13. bis 7. Kalendertag vor\nBeginn des Seminars/Wochenkurses fällt eine Stornierungsgebühr von\n75 % an. Ab dem 6. Kalendertag vor Veranstaltungsbeginn ist die volle\nSeminargebühr zu entrichten\, dies gilt auch bei Nichterscheinen ohne\nAbsage. Die Stornierung muss in schriftlicher Form vorliegen. Ein\nkostenfreier Rücktritt von Ihrer Anmeldung ist jederzeit möglich\, wenn\nein voll zahlender Ersatzteilnehmer verbindlich gestellt wird\, dies muss\nebenfalls in schriftlicher Form erfolgen. In begründeten Ausnahmefällen\nentscheidet der Vorstand über die Höhe der anfallenden Stornogebühr.\nHinweis: Bei zu geringer Teilnehmerzahl kann der Kurs vom\nVeranstalter abgesagt werden.\nWir weisen darauf hin\, dass die einschlägigen Vorschriften des\nDatenschutzes (Schweigepflicht\, Sozialdatenschutz\, Schutz von\npersonenbezogenen Daten) bei Vorstellungen von Behandlungsfällen\noder anderweitiger Bekanntgabe von mit Patienten\nin Verbindung stehenden Informationen unbedingt einzuhalten sind. Mit\nIhrer Anmeldung zu der genannten Veranstaltung bestätigen Sie uns\,\ndass Sie zur Kenntnis genommen haben\, dass die Verantwortung für\ndie Einhaltung dieser Vorschriften für die von Ihnen im Rahmen dieses\nKurses öffentlich gemachten Informationen bei Ihnen liegt. \nHinweis:\nIhre personengebundenen Daten und Seminarunterlagen stehen nur noch 5 Jahre für eventuelle\nRückfragen zur Verfügung \nFlyer Jan Scholten 21.-22.8.2021
URL:https://www.berlin-brandenburger-homoeopathie.de/event/jan-scholten/
LOCATION:Berliner Verein Homöopathischer Ärzte\, Nassauische Str. 2\, Berlin\, Berlin\, 10717\, Deutschland
CATEGORIES:Fortbildung,Vorträge
ORGANIZER;CN="Berliner Verein Hom%C3%B6opathischer %C3%84rzte e.V.":MAILTO:info@bvhae.de
END:VEVENT
END:VCALENDAR